BEGIN:VCALENDAR
VERSION:2.0
PRODID:-// - ECPv6.15.20//NONSGML v1.0//EN
CALSCALE:GREGORIAN
METHOD:PUBLISH
X-ORIGINAL-URL:https://clearwatersar.com
X-WR-CALDESC:Events for 
REFRESH-INTERVAL;VALUE=DURATION:PT1H
X-Robots-Tag:noindex
X-PUBLISHED-TTL:PT1H
BEGIN:VTIMEZONE
TZID:America/New_York
BEGIN:DAYLIGHT
TZOFFSETFROM:-0500
TZOFFSETTO:-0400
TZNAME:EDT
DTSTART:20250309T070000
END:DAYLIGHT
BEGIN:STANDARD
TZOFFSETFROM:-0400
TZOFFSETTO:-0500
TZNAME:EST
DTSTART:20251102T060000
END:STANDARD
BEGIN:DAYLIGHT
TZOFFSETFROM:-0500
TZOFFSETTO:-0400
TZNAME:EDT
DTSTART:20260308T070000
END:DAYLIGHT
BEGIN:STANDARD
TZOFFSETFROM:-0400
TZOFFSETTO:-0500
TZNAME:EST
DTSTART:20261101T060000
END:STANDARD
BEGIN:DAYLIGHT
TZOFFSETFROM:-0500
TZOFFSETTO:-0400
TZNAME:EDT
DTSTART:20270314T070000
END:DAYLIGHT
BEGIN:STANDARD
TZOFFSETFROM:-0400
TZOFFSETTO:-0500
TZNAME:EST
DTSTART:20271107T060000
END:STANDARD
END:VTIMEZONE
BEGIN:VEVENT
DTSTART;TZID=America/New_York:20260117T000000
DTEND;TZID=America/New_York:20260117T235959
DTSTAMP:20260421T215350
CREATED:20250913T205721Z
LAST-MODIFIED:20250913T205721Z
UID:1845-1768608000-1768694399@clearwatersar.com
SUMMARY:American Battlefield Traveling Exhibit / DAR Event
DESCRIPTION:Clearwater Chapter and the Clearwater Historical Society will be hosting the American Battlefield  traveling exhibit on January 17\, 2026 continuing for several days. \n\n\n\nMore details will be available soon. \n\n\n\nhttps://www.battlefields.org/american-revolution-experience-traveling-exhibit-tour?ms=googlepaid&gad_source=1&gad_campaignid=22284116153&gbraid=0AAAAADfvU_MRV7pPmJ97EIVEwtTW1k-pq
URL:https://clearwatersar.com/event/american-battlefield-traveling-exhibit-dar-event/
LOCATION:Florida
END:VEVENT
BEGIN:VEVENT
DTSTART;TZID=America/New_York:20260121T113000
DTEND;TZID=America/New_York:20260121T143000
DTSTAMP:20260421T215350
CREATED:20260110T205324Z
LAST-MODIFIED:20260126T143733Z
UID:2197-1768995000-1769005800@clearwatersar.com
SUMMARY:Clearwater Chapter SAR General Meeting - January 2026
DESCRIPTION:General business\, including ‘Generals of the Revolution – Part 2. Contact Dwight McEntire for lunch reservations ($25).
URL:https://clearwatersar.com/event/january-general-meeting/
LOCATION:Regency Oaks\, 2751 Regency Oaks Blvd.\, Clearwater\, Florida\, 33759\, United States
END:VEVENT
BEGIN:VEVENT
DTSTART;TZID=America/New_York:20260215T120000
DTEND;TZID=America/New_York:20260215T123000
DTSTAMP:20260421T215350
CREATED:20260215T211942Z
LAST-MODIFIED:20260215T212209Z
UID:2447-1771156800-1771158600@clearwatersar.com
SUMMARY:Event Timezone Test2
DESCRIPTION:This is only a Test to view timezone issues — Kurt
URL:https://clearwatersar.com/event/event-timezone-test/
LOCATION:Florida
END:VEVENT
BEGIN:VEVENT
DTSTART;TZID=America/New_York:20260218T113000
DTEND;TZID=America/New_York:20260218T140000
DTSTAMP:20260421T215350
CREATED:20260110T210134Z
LAST-MODIFIED:20260216T015734Z
UID:2205-1771414200-1771423200@clearwatersar.com
SUMMARY:Clearwater Chapter SAR General Meeting - February 2026
DESCRIPTION:General business. David Bramley\, author of “Washington’s Guns”\, and more. Contact Dwight McEntire for Lunch reservations
URL:https://clearwatersar.com/event/february-general-meeting/
LOCATION:Regency Oaks\, 2751 Regency Oaks Blvd.\, Clearwater\, Florida\, 33759\, United States
ORGANIZER;CN="Dwitht McEntire":MAILTO:jdmcentire.sar@gmail.com
END:VEVENT
BEGIN:VEVENT
DTSTART;TZID=America/New_York:20260318T113000
DTEND;TZID=America/New_York:20260318T140000
DTSTAMP:20260421T215350
CREATED:20260122T152756Z
LAST-MODIFIED:20260303T143323Z
UID:2279-1773833400-1773842400@clearwatersar.com
SUMMARY:Clearwater Chapter SAR General Meeting - March 2026
DESCRIPTION:General Business. Debbie Smyth\, DAR Caladesi Chapter Registrar\, will be presenting “Women in the Revolution”\, and more. Contact Dwight McEntire for Lunch reservations
URL:https://clearwatersar.com/event/march-2026-general-meeting/
LOCATION:Regency Oaks\, 2751 Regency Oaks Blvd.\, Clearwater\, Florida\, 33759\, United States
ORGANIZER;CN="Dwitht McEntire":MAILTO:jdmcentire.sar@gmail.com
END:VEVENT
BEGIN:VEVENT
DTSTART;TZID=America/New_York:20260415T113000
DTEND;TZID=America/New_York:20260415T140000
DTSTAMP:20260421T215350
CREATED:20260202T013213Z
LAST-MODIFIED:20260406T153357Z
UID:2383-1776252600-1776261600@clearwatersar.com
SUMMARY:Clearwater Chapter SAR General Meeting - April 2026
DESCRIPTION:General Business\, Dwight McEntire will present\, “Forgotten Signers of the Revolution.” Contact Dwight McEntire for lunch reservation at jdmcentire.sar@gmail.com
URL:https://clearwatersar.com/event/clearwater-chapter-sar-general-meeting/
LOCATION:Florida
END:VEVENT
BEGIN:VEVENT
DTSTART;TZID=America/New_York:20260417T100000
DTEND;TZID=America/New_York:20260417T120000
DTSTAMP:20260421T215350
CREATED:20260331T134653Z
LAST-MODIFIED:20260331T135209Z
UID:2681-1776420000-1776427200@clearwatersar.com
SUMMARY:Liberty Tree Dedication
DESCRIPTION:Liberty Tree Dedication at the Veterans memorial Plaza.  \n\n\n\nClearwater City Manager Jennifer Poirrier\, Clearwater Council\, Members and Senior Members of the Sons of the American Revolution will be in attendance.
URL:https://clearwatersar.com/event/liberty-tree-dedication/
LOCATION:Crest Lake Park\, Clearwater\, \, FL\, 201 S Glenwood Ave\, Clearwater\, Florida\, 33755\, United States
END:VEVENT
BEGIN:VEVENT
DTSTART;TZID=America/New_York:20260425T110000
DTEND;TZID=America/New_York:20260425T170000
DTSTAMP:20260421T215350
CREATED:20260331T140304Z
LAST-MODIFIED:20260331T140305Z
UID:2695-1777114800-1777136400@clearwatersar.com
SUMMARY:DAR / SAR Picnic
DESCRIPTION:Annual DAR / SAR Picnic
URL:https://clearwatersar.com/event/dar-sar-picnic/
LOCATION:John Chestnut Park – Shelter 10\, 2200 E Lake Rd S\, Palm Harbor\, Florida\, 34685\, United States
END:VEVENT
BEGIN:VEVENT
DTSTART;TZID=America/New_York:20260520T113000
DTEND;TZID=America/New_York:20260520T140000
DTSTAMP:20260421T215350
CREATED:20260219T141035Z
LAST-MODIFIED:20260219T141036Z
UID:2510-1779276600-1779285600@clearwatersar.com
SUMMARY:Clearwater Chapter SAR General Meeting - May 2026
DESCRIPTION:General Business\, Prof. Robert Yarnell will present “Whatever Happened to the Firebrands of the Revolution?”\, and more. Contact Dwight McEntire for Lunch reservations
URL:https://clearwatersar.com/event/clearwater-chapter-sar-general-meeting-may-2026/
LOCATION:Regency Oaks\, 2751 Regency Oaks Blvd.\, Clearwater\, Florida\, 33759\, United States
ORGANIZER;CN="Dwitht McEntire":MAILTO:jdmcentire.sar@gmail.com
END:VEVENT
BEGIN:VEVENT
DTSTART;TZID=America/New_York:20260704T000000
DTEND;TZID=America/New_York:20260704T235959
DTSTAMP:20260421T215350
CREATED:20260127T174328Z
LAST-MODIFIED:20260127T174329Z
UID:2327-1783123200-1783209599@clearwatersar.com
SUMMARY:250th Anniversary of  The Declaration of Independence
DESCRIPTION:The unanimous Declaration of the thirteen united States of America:‘We hold these truths to be self-evident\, that all men are created equal\, that they are endowed by their Creator with certain unalienable Rights\, that among these are Life\, Liberty and the pursuit of Happiness’
URL:https://clearwatersar.com/event/250th-anniversary-of-the-declaration-of-independence/
LOCATION:Florida
END:VEVENT
BEGIN:VEVENT
DTSTART;TZID=America/New_York:20260916T113000
DTEND;TZID=America/New_York:20260916T140000
DTSTAMP:20260421T215351
CREATED:20260219T141420Z
LAST-MODIFIED:20260219T141420Z
UID:2512-1789558200-1789567200@clearwatersar.com
SUMMARY:Clearwater Chapter SAR General Meeting - September 2026
DESCRIPTION:General Business\, Art Hays -Viewing of the Youth Video Contest winner entries\, and more.
URL:https://clearwatersar.com/event/clearwater-chapter-sar-general-meeting-september-2026/
LOCATION:Regency Oaks\, 2751 Regency Oaks Blvd.\, Clearwater\, Florida\, 33759\, United States
ORGANIZER;CN="Dwitht McEntire":MAILTO:jdmcentire.sar@gmail.com
END:VEVENT
END:VCALENDAR