BEGIN:VCALENDAR
VERSION:2.0
PRODID:-// - ECPv6.15.18//NONSGML v1.0//EN
CALSCALE:GREGORIAN
METHOD:PUBLISH
X-ORIGINAL-URL:https://clearwatersar.com
X-WR-CALDESC:Events for 
REFRESH-INTERVAL;VALUE=DURATION:PT1H
X-Robots-Tag:noindex
X-PUBLISHED-TTL:PT1H
BEGIN:VTIMEZONE
TZID:America/New_York
BEGIN:DAYLIGHT
TZOFFSETFROM:-0500
TZOFFSETTO:-0400
TZNAME:EDT
DTSTART:20250309T070000
END:DAYLIGHT
BEGIN:STANDARD
TZOFFSETFROM:-0400
TZOFFSETTO:-0500
TZNAME:EST
DTSTART:20251102T060000
END:STANDARD
BEGIN:DAYLIGHT
TZOFFSETFROM:-0500
TZOFFSETTO:-0400
TZNAME:EDT
DTSTART:20260308T070000
END:DAYLIGHT
BEGIN:STANDARD
TZOFFSETFROM:-0400
TZOFFSETTO:-0500
TZNAME:EST
DTSTART:20261101T060000
END:STANDARD
BEGIN:DAYLIGHT
TZOFFSETFROM:-0500
TZOFFSETTO:-0400
TZNAME:EDT
DTSTART:20270314T070000
END:DAYLIGHT
BEGIN:STANDARD
TZOFFSETFROM:-0400
TZOFFSETTO:-0500
TZNAME:EST
DTSTART:20271107T060000
END:STANDARD
END:VTIMEZONE
BEGIN:VEVENT
DTSTART;TZID=America/New_York:20260520T113000
DTEND;TZID=America/New_York:20260520T140000
DTSTAMP:20260421T093717
CREATED:20260219T141035Z
LAST-MODIFIED:20260219T141036Z
UID:2510-1779276600-1779285600@clearwatersar.com
SUMMARY:Clearwater Chapter SAR General Meeting - May 2026
DESCRIPTION:General Business\, Prof. Robert Yarnell will present “Whatever Happened to the Firebrands of the Revolution?”\, and more. Contact Dwight McEntire for Lunch reservations
URL:https://clearwatersar.com/event/clearwater-chapter-sar-general-meeting-may-2026/
LOCATION:Regency Oaks\, 2751 Regency Oaks Blvd.\, Clearwater\, Florida\, 33759\, United States
ORGANIZER;CN="Dwitht McEntire":MAILTO:jdmcentire.sar@gmail.com
END:VEVENT
END:VCALENDAR